BEGIN:VCALENDAR
VERSION:2.0
PRODID:-//ChamberMaster//Event Calendar 2.0//EN
METHOD:PUBLISH
X-PUBLISHED-TTL:P1H
REFRESH-INTERVAL:P1H
CALSCALE:GREGORIAN
BEGIN:VTIMEZONE
TZID:America/Chicago
BEGIN:DAYLIGHT
RRULE:FREQ=YEARLY;BYMONTH=3;BYDAY=2SU
DTSTART:20070101T000000
TZOFFSETFROM:-0600
TZOFFSETTO:-0500
TZNAME:Central Daylight Time
END:DAYLIGHT
BEGIN:STANDARD
RRULE:FREQ=YEARLY;BYMONTH=11;BYDAY=1SU
DTSTART:20070101T000000
TZOFFSETFROM:-0500
TZOFFSETTO:-0600
TZNAME:Central Standard Time
END:STANDARD
END:VTIMEZONE
BEGIN:VEVENT
DTSTART;VALUE=DATE:20240311
DTEND;VALUE=DATE:20240312
TRANSP:TRANSPARENT
X-MICROSOFT-CDO-ALLDAYEVENT:TRUE
SUMMARY:Spring Break Art Camp
DESCRIPTION:***PLEASE NOTE... TO BOOK MULTIPLE DAYS\, PLEASE MESSAGE US WITH YOUR EMAIL\, CHILD'S NAME\, TIME SLOT AND DAYS REQUESTED.***\n\nElgin Arts Association presents: Spring Break Art Camp!!!\n2 time slots available: 9am & 12pm... Each time slot will offer different classes\nLookout for our advanced class at 3pm each day for your teen\, advanced\, or adult students!\nSign up available for 1 or all 5 days.\n\nBest for ages 5-12. 2 hour long sessions of art activities with completely different activities each day and time slot. 3 teachers on site to help your student get the most out of each lesson. Students will learn art lessons as a group and receive 1-on-1 guidance catered to their specific needs. Under 5 years old requires guardian assistance.
X-ALT-DESC;FMTTYPE=text/html:***PLEASE NOTE... TO BOOK MULTIPLE DAYS\, PLEASE MESSAGE US WITH YOUR EMAIL\, CHILD'S NAME\, TIME SLOT AND DAYS REQUESTED.***\n\nElgin Arts Association presents: Spring Break Art Camp!!!\n2 time slots available: 9am & 12pm... Each time slot will offer different classes\nLookout for our advanced class at 3pm each day for your teen\, advanced\, or adult students!\nSign up available for 1 or all 5 days.\n\nBest for ages 5-12. 2 hour long sessions of art activities with completely different activities each day and time slot. 3 teachers on site to help your student get the most out of each lesson. Students will learn art lessons as a group and receive 1-on-1 guidance catered to their specific needs. Under 5 years old requires guardian assistance.
LOCATION:114 Depot Street Elgin TX 78621
UID:e.2197.949349
SEQUENCE:3
DTSTAMP:20260420T035416Z
URL:https://business.elgintxchamber.com/businesstrainingcalendar/Details/spring-break-art-camp-1080384?sourceTypeId=Hub
END:VEVENT
END:VCALENDAR
